BEGIN:VCALENDAR
VERSION:2.0
PRODID:-//InvisionCommunity Events 5.0.18//EN
METHOD:PUBLISH
CALSCALE:GREGORIAN
REFRESH-INTERVAL:PT15M
X-PUBLISHED-TTL:PT15M
X-WR-CALNAME:Calendrier AVEX
NAME:Calendrier AVEX
BEGIN:VTIMEZONE
TZID:Europe/London
TZURL:https://tzurl.org/zoneinfo/Europe/London
X-LIC-LOCATION:Europe/London
BEGIN:DAYLIGHT
TZOFFSETFROM:+0000
TZOFFSETTO:+0100
TZNAME:BST
DTSTART:20160327T020000Z
RRULE:FREQ=YEARLY;BYMONTH=3;BYDAY=-1SU
END:DAYLIGHT
BEGIN:STANDARD
TZOFFSETFROM:+0100
TZOFFSETTO:+0000
TZNAME:GMT
DTSTART:20161030T020000Z
RRULE:FREQ=YEARLY;BYMONTH=10;BYDAY=-1SU
END:STANDARD
END:VTIMEZONE
BEGIN:VEVENT
SUMMARY:Mouvex
DTSTAMP:20191227T121956Z
SEQUENCE:0
UID:106-1-46e27044d00b4915522bf9933dcd6f95@avex-asso.org
ORGANIZER;CN="frédogoto":contact@avex-asso.org
DESCRIPTION:\n\nplus d  'infos »\n\n\n\n\n\nMouvex\n\n\n\nMouvex d'Avri
	l\n\ncorum 4 personne\n\nmax 9-10 \n\n\n\nDate\n\nven. 8 avr. – dim. 10 
	avr. 2016\n\n\n\nOù ?\n\nMoussonvilliers\, France (plan  )\n\n\n\nAppel v
	idéo\n\nParticiper à un appel vidéo  \n\n\n\nAgenda\n\nAgenda AVEX\n\n\
	n\nParticipants\n\n•\n\nfrédéric tapissier\n\n- créateur\n\n•\n\nre
	diger@hotmail.fr\n\n•\n\nj.lumbroso@gmail.com\n\n•\n\nLefèvre Mathi
	s\n\n•\n\nrachid@nebuleuse.eu\n\n•\n\narthuss@yahoo.fr\n\n•\n\nThier
	rry Garreau\n\n•\n\nbdelafouchardiere@astroclubs.net\n\n•\n\naxelvinc@
	yahoo.fr\n\n•\n\nJoseph Ferraro\n\n•\n\nxavier.dauvin@free.fr\n\n•\n
	\nmichel.boutet@laposte.net\n\n•\n\nphilippe renaud\n\n•\n\njcdp@wanad
	oo.fr\n\n•\n\nraylefevre@wanadoo.fr\n\n•\n\nAlban BERNARD\n\n\n\nAllez
	-vous participer ?   \n\n\n\nOui   - \n\nPeut-être   - \n\nNon      plus 
	d  'options »\n\n\n\n\n\nInvitation de Google Agenda\n\n\n\nVous recevez 
	ce message à l'adresse xavier.dauvin@free.fr\, carvous participez à cet
	 événement.\n\n\n\nRefusez cet événement pour ne plus recevoir de noti
	fications le concernant. Vous avez également la possibilité decréer un 
	compte Google à l'adresse https://www.google.com/calendar/ et de définir
	 vous-même les paramètres de notification pour l'intégralité de votre 
	agenda.\n\n\n\nEn transférant cette invitation\, vous risquez d'autoriser
	 tous les destinataires à modifier votre réponse à l'invitation. En sav
	oir plus .
DTSTART;VALUE=DATE:20160408
DTEND;VALUE=DATE:20160411
END:VEVENT
END:VCALENDAR
