BEGIN:VCALENDAR
VERSION:2.0
PRODID:-//InvisionCommunity Events 5.0.18//EN
METHOD:PUBLISH
CALSCALE:GREGORIAN
REFRESH-INTERVAL:PT15M
X-PUBLISHED-TTL:PT15M
X-WR-CALNAME:Calendrier AVEX
NAME:Calendrier AVEX
BEGIN:VTIMEZONE
TZID:Europe/London
TZURL:https://tzurl.org/zoneinfo/Europe/London
X-LIC-LOCATION:Europe/London
BEGIN:DAYLIGHT
TZOFFSETFROM:+0000
TZOFFSETTO:+0100
TZNAME:BST
DTSTART:20160327T020000Z
RRULE:FREQ=YEARLY;BYMONTH=3;BYDAY=-1SU
END:DAYLIGHT
BEGIN:STANDARD
TZOFFSETFROM:+0100
TZOFFSETTO:+0000
TZNAME:GMT
DTSTART:20161030T020000Z
RRULE:FREQ=YEARLY;BYMONTH=10;BYDAY=-1SU
END:STANDARD
END:VTIMEZONE
BEGIN:VEVENT
SUMMARY:Mouvex :)
DTSTAMP:20191227T121956Z
SEQUENCE:0
UID:108-1-46e27044d00b4915522bf9933dcd6f95@avex-asso.org
ORGANIZER;CN="frédogoto":contact@avex-asso.org
DESCRIPTION:\n\n\n\nCet événement a été modifié.\n\n\n\nplus d  'i
	nfos »\n\n\n\n\n\nMouvex :)\n\n\n\nà Moussonvillier pour le moment mais 
	possiblement dans le Cotentin\n\n\n\nDate\n\nModifié : ven. 11 mars – d
	im. 13 mars 2016\n\n\n\nOù ?\n\nMoussonvilliers\, France (plan  )\n\n\n\n
	Agenda\n\nAgendaAVEX\n\n\n\nParticipants\n\n•\n\nfrédéric tapissier\n\
	n- créateur\n\n•\n\nrediger@hotmail.fr\n\n•\n\nj.lumbroso@gmail.com
	\n\n•\n\nLefèvre Mathis\n\n•\n\nrachid@nebuleuse.eu\n\n•\n\narthuss
	@yahoo.fr\n\n•\n\nThierrry Garreau\n\n•\n\nbdelafouchardiere@astroclub
	s.net\n\n•\n\naxelvinc@yahoo.fr\n\n•\n\nJoseph Ferraro\n\n•\n\nxavie
	r.dauvin@free.fr\n\n•\n\nmichel.boutet@laposte.net\n\n•\n\nphilippe re
	naud\n\n•\n\njcdp@wanadoo.fr\n\n•\n\nraylefevre@wanadoo.fr\n\n•\n\nA
	lban BERNARD\n\n\n\nAllez-vous participer ?   \n\n\n\nOui   - \n\nPeut-êt
	re   - \n\nNon      plus d  'options »\n\n\n\n\n\nInvitation de Google   
	Agenda\n\n\n\nVous recevez ce message à l'adresse xavier.dauvin@free.fr\,
	 car vous participez à cet événement.\n\n\n\nRefusez cet événement po
	ur ne plus recevoir de notifications le concernant. Vous avez également l
	a possibilité de créer un compte Google à l'adresse https://www.google.
	com/calendar/ et de définir vous-même les paramètres de notification po
	ur l'intégralité de votre agenda.\n\n\n\nEn transférant cette invitatio
	n\, vous risquez d'autoriser tous les destinataires à modifier votre rép
	onse à l'invitation. En savoir plus  .
DTSTART;VALUE=DATE:20160311
DTEND;VALUE=DATE:20160314
END:VEVENT
END:VCALENDAR
